BEGIN:VCALENDAR
VERSION:2.0
PRODID:-//Gemeinde Nieste - ECPv6.15.13//NONSGML v1.0//EN
CALSCALE:GREGORIAN
METHOD:PUBLISH
X-WR-CALNAME:Gemeinde Nieste
X-ORIGINAL-URL:https://www.nieste.de
X-WR-CALDESC:Veranstaltungen für Gemeinde Nieste
REFRESH-INTERVAL;VALUE=DURATION:PT1H
X-Robots-Tag:noindex
X-PUBLISHED-TTL:PT1H
BEGIN:VTIMEZONE
TZID:Europe/Berlin
BEGIN:DAYLIGHT
TZOFFSETFROM:+0100
TZOFFSETTO:+0200
TZNAME:CEST
DTSTART:20250330T010000
END:DAYLIGHT
BEGIN:STANDARD
TZOFFSETFROM:+0200
TZOFFSETTO:+0100
TZNAME:CET
DTSTART:20251026T010000
END:STANDARD
BEGIN:DAYLIGHT
TZOFFSETFROM:+0100
TZOFFSETTO:+0200
TZNAME:CEST
DTSTART:20260329T010000
END:DAYLIGHT
BEGIN:STANDARD
TZOFFSETFROM:+0200
TZOFFSETTO:+0100
TZNAME:CET
DTSTART:20261025T010000
END:STANDARD
BEGIN:DAYLIGHT
TZOFFSETFROM:+0100
TZOFFSETTO:+0200
TZNAME:CEST
DTSTART:20270328T010000
END:DAYLIGHT
BEGIN:STANDARD
TZOFFSETFROM:+0200
TZOFFSETTO:+0100
TZNAME:CET
DTSTART:20271031T010000
END:STANDARD
END:VTIMEZONE
BEGIN:VEVENT
DTSTART;VALUE=DATE:20260430
DTEND;VALUE=DATE:20260502
DTSTAMP:20260424T135025
CREATED:20260216T170400Z
LAST-MODIFIED:20260216T170400Z
UID:6294-1777507200-1777679999@www.nieste.de
SUMMARY:Maibaumaufstellung und Schlachtefest unter dem Maibaum
DESCRIPTION:
URL:https://www.nieste.de/veranstaltungen/maibaumaufstellung-und-schlachtefest-unter-dem-maibaum/
LOCATION:Schützenhaus\, Am Schützenhaus 1\, Nieste\, Hessen\, 34329\, Deutschland
CATEGORIES:Brauchtum,Märkte,Vereinsfest
ATTACH;FMTTYPE=image/png:https://www.nieste.de/wp-content/uploads/Green-and-White-Modern-Illustrated-Facebook-Profile-Frame-5-1.png
END:VEVENT
BEGIN:VEVENT
DTSTART;TZID=Europe/Berlin:20260510T180000
DTEND;TZID=Europe/Berlin:20260510T200000
DTSTAMP:20260424T135025
CREATED:20260216T171302Z
LAST-MODIFIED:20260216T171302Z
UID:6298-1778436000-1778443200@www.nieste.de
SUMMARY:Konzert Spielgemeinschaft Kaufungen / Nieste
DESCRIPTION:
URL:https://www.nieste.de/veranstaltungen/konzert-spielgemeinschaft-kaufungen-nieste/
LOCATION:Bürgerhaus Kaufungen\, Leipziger Straße 463\, Kaufungen\, 34266
CATEGORIES:Konzert
ATTACH;FMTTYPE=image/png:https://www.nieste.de/wp-content/uploads/Green-and-White-Modern-Illustrated-Facebook-Profile-Frame-5-1.png
END:VEVENT
BEGIN:VEVENT
DTSTART;TZID=Europe/Berlin:20260514T110000
DTEND;TZID=Europe/Berlin:20260514T200000
DTSTAMP:20260424T135025
CREATED:20260216T171537Z
LAST-MODIFIED:20260216T171537Z
UID:6303-1778756400-1778788800@www.nieste.de
SUMMARY:Brass und Spass am Vaddertach
DESCRIPTION:am Vorabend Dämmerschoppen \nBratwurst Bier und Blasmusik an Himmelfahrt
URL:https://www.nieste.de/veranstaltungen/brass-und-spass-am-vaddertach/
LOCATION:Dorfmitte\, Wilhelm-Heitmann-Platz 3\, Nieste\, Hessen\, 34329\, Deutschland
CATEGORIES:Konzert,Märkte,Musik,Party,Vereinsfest
ATTACH;FMTTYPE=image/png:https://www.nieste.de/wp-content/uploads/Green-and-White-Modern-Illustrated-Facebook-Profile-Frame-5-1.png
ORGANIZER;CN="Sport- und Musikverein Nieste e.V.":MAILTO:thsandrisser@web.de
END:VEVENT
BEGIN:VEVENT
DTSTART;VALUE=DATE:20260613
DTEND;VALUE=DATE:20260614
DTSTAMP:20260424T135025
CREATED:20250627T132548Z
LAST-MODIFIED:20250627T132548Z
UID:5626-1781308800-1781395199@www.nieste.de
SUMMARY:Tuspo vs. Schalke 04 -  Traditionsmannschaft - 125 Jahre Tuspo Nieste
DESCRIPTION:
URL:https://www.nieste.de/veranstaltungen/tuspo-vs-schalke-04-traditionsmannschaft-125-jahre-tuspo-nieste/
LOCATION:Sportgelände Nieste\, Zum Sportplatz\, Nieste\, Hessen\, 34329\, Deutschland
CATEGORIES:Sport,Vereinsfest
ATTACH;FMTTYPE=image/png:https://www.nieste.de/wp-content/uploads/Green-and-White-Modern-Illustrated-Facebook-Profile-Frame-5.png
END:VEVENT
BEGIN:VEVENT
DTSTART;VALUE=DATE:20260618
DTEND;VALUE=DATE:20260622
DTSTAMP:20260424T135025
CREATED:20250627T133337Z
LAST-MODIFIED:20250627T133337Z
UID:5630-1781740800-1782086399@www.nieste.de
SUMMARY:725 Jahr Frankenhain (Partnergemeinde)
DESCRIPTION:
URL:https://www.nieste.de/veranstaltungen/725-jahr-frankenhain-partnergemeinde/
LOCATION:Frankenhain\, Mühlsteinstraße 7\, Frankenhain\, Thüringen\, 99330\, Germany
CATEGORIES:Gemeinde,Musik,Party,Vereinsfest
ATTACH;FMTTYPE=image/png:https://www.nieste.de/wp-content/uploads/Green-and-White-Modern-Illustrated-Facebook-Profile-Frame-5.png
END:VEVENT
BEGIN:VEVENT
DTSTART;VALUE=DATE:20260821
DTEND;VALUE=DATE:20260824
DTSTAMP:20260424T135025
CREATED:20250627T133519Z
LAST-MODIFIED:20250627T133519Z
UID:5634-1787270400-1787529599@www.nieste.de
SUMMARY:125 Tuspo Nieste Festwochenende
DESCRIPTION:
URL:https://www.nieste.de/veranstaltungen/125-tuspo-nieste-festwochenende/
LOCATION:Sportgelände Nieste\, Zum Sportplatz\, Nieste\, Hessen\, 34329\, Deutschland
CATEGORIES:Musik,Party,Vereinsfest
ATTACH;FMTTYPE=image/png:https://www.nieste.de/wp-content/uploads/Green-and-White-Modern-Illustrated-Facebook-Profile-Frame-5.png
END:VEVENT
BEGIN:VEVENT
DTSTART;VALUE=DATE:20261024
DTEND;VALUE=DATE:20261025
DTSTAMP:20260424T135025
CREATED:20260309T142647Z
LAST-MODIFIED:20260309T142817Z
UID:6409-1792800000-1792886399@www.nieste.de
SUMMARY:125 Jahre SPD Ortsverein Nieste
DESCRIPTION:
URL:https://www.nieste.de/veranstaltungen/125-jahre-spd-ortsverein-nieste/
LOCATION:Dorfgemeinschaftshaus\, Wilhelm-Heitmann-Platz 3\, Nieste\, 34329\, Germany
CATEGORIES:Vereinsfest
ATTACH;FMTTYPE=image/png:https://www.nieste.de/wp-content/uploads/Green-and-White-Modern-Illustrated-Facebook-Profile-Frame-5-1.png
ORGANIZER;CN="SPD Ortsverein Nieste":MAILTO:info@spd-nieste.de
END:VEVENT
END:VCALENDAR